BEGIN:VCALENDAR
VERSION:2.0
PRODID:-//River 2 River Area of Narcotics Anonymous - ECPv6.15.20//NONSGML v1.0//EN
CALSCALE:GREGORIAN
METHOD:PUBLISH
X-ORIGINAL-URL:https://river2riverna.com
X-WR-CALDESC:Events for River 2 River Area of Narcotics Anonymous
REFRESH-INTERVAL;VALUE=DURATION:PT1H
X-Robots-Tag:noindex
X-PUBLISHED-TTL:PT1H
BEGIN:VTIMEZONE
TZID:UTC
BEGIN:STANDARD
TZOFFSETFROM:+0000
TZOFFSETTO:+0000
TZNAME:UTC
DTSTART:20250101T000000
END:STANDARD
END:VTIMEZONE
BEGIN:VEVENT
DTSTART;TZID=UTC:20260111T140000
DTEND;TZID=UTC:20260111T160000
DTSTAMP:20260423T003615
CREATED:20260105T065643Z
LAST-MODIFIED:20260105T071551Z
UID:713-1768140000-1768147200@river2riverna.com
SUMMARY:Subcommittee for April Speaker Jam
DESCRIPTION:Subcommittee for April Speaker Jam \n \n1/11/26 @ 2pm \nClick https://us02web.zoom.us/j/8670195829?omn=88125755600 to start or join a scheduled Zoom Meeting
URL:https://river2riverna.com/event/subcommittee-for-april-speaker-jam/
LOCATION:IL
CATEGORIES:Other Area Events,R2R Events
END:VEVENT
END:VCALENDAR