BEGIN:VCALENDAR
VERSION:2.0
PRODID:-//River 2 River Area of Narcotics Anonymous - ECPv6.15.20//NONSGML v1.0//EN
CALSCALE:GREGORIAN
METHOD:PUBLISH
X-WR-CALNAME:River 2 River Area of Narcotics Anonymous
X-ORIGINAL-URL:https://river2riverna.com
X-WR-CALDESC:Events for River 2 River Area of Narcotics Anonymous
REFRESH-INTERVAL;VALUE=DURATION:PT1H
X-Robots-Tag:noindex
X-PUBLISHED-TTL:PT1H
BEGIN:VTIMEZONE
TZID:UTC
BEGIN:STANDARD
TZOFFSETFROM:+0000
TZOFFSETTO:+0000
TZNAME:UTC
DTSTART:20240101T000000
END:STANDARD
END:VTIMEZONE
BEGIN:VEVENT
DTSTART;TZID=UTC:20250921T180000
DTEND;TZID=UTC:20251221T190000
DTSTAMP:20260423T034112
CREATED:20250831T220308Z
LAST-MODIFIED:20251010T205933Z
UID:670-1758477600-1766343600@river2riverna.com
SUMMARY:Saturday Night Live
DESCRIPTION:
URL:https://river2riverna.com/event/saturday-night-live/
LOCATION:IL
CATEGORIES:Other Area Events,R2R Events
END:VEVENT
BEGIN:VEVENT
DTSTART;TZID=UTC:20251018T160000
DTEND;TZID=UTC:20251018T210000
DTSTAMP:20260423T034112
CREATED:20250817T174901Z
LAST-MODIFIED:20250926T160927Z
UID:655-1760803200-1760821200@river2riverna.com
SUMMARY:Chiliween
DESCRIPTION:River 2 River Annual \nChiliween Cookoff \n \nFellowship in Life Church \n1204 Pin Oak Drive \nCarterville\, IL\, 62919 \nBring Your Best Chili to enter in our Chiliween contest!!!! \nOctober 18\, 2025 \n4pm to 9pm \n$5 person/ $8 couple Kids are free!! \nJoin us for \nHalloween costume contest\, Chili Contest \nHot Dogs and Drinks provided\, please feel free to bring chili side or desert. \n 
URL:https://river2riverna.com/event/chiliween/
LOCATION:Fellowship of Life Church\, 1204 Pin Oak Drive\, Carterville\, IL\, 62918\, United States
CATEGORIES:Other Area Events,R2R Events
END:VEVENT
END:VCALENDAR